BEGIN:VCALENDAR
VERSION:2.0
PRODID:-//EELK Tallinna Jaani kogudus//NONSGML kigkonsult.se iCalcreator 2.41.92//
CALSCALE:GREGORIAN
METHOD:PUBLISH
UID:64393339-6334-4263-b330-643335313431
X-WR-CALNAME:iCagenda
X-WR-CALDESC:Event Management Extension for Joomla!
X-WR-RELCALID:3E26604A-50F4-4449-8B3E-E4F4932D05B5
X-WR-TIMEZONE:Europe/Tallinn
BEGIN:VTIMEZONE
TZID:Europe/Tallinn
TZUNTIL:20200329T010000Z
BEGIN:STANDARD
TZNAME:EET
DTSTART:20171029T040000
TZOFFSETFROM:+0300
TZOFFSETTO:+0200
RDATE:20181028T040000
RDATE:20191027T040000
END:STANDARD
BEGIN:DAYLIGHT
TZNAME:EEST
DTSTART:20180325T030000
TZOFFSETFROM:+0200
TZOFFSETTO:+0300
RDATE:20190331T030000
END:DAYLIGHT
END:VTIMEZONE
BEGIN:VEVENT
UID:32313666-3362-4563-b934-666139653431
DTSTAMP:20260425T220530Z
CATEGORIES:Kirikukontsert
CLASS:PUBLIC
DESCRIPTION;ALTREP="CID:<FFFF__=0ABBE548DFE235B58f9e8a93d@coffeebean.com>":
 Orelil Maris Oidekivi-Kaufmann.
DTSTART:20180815T103000Z
DTEND:20180815T103000Z
GEO:00;0
LOCATION:
ORGANIZER:
SEQUENCE:1
SUMMARY:Hardushetk (kontsertmõtisklus).
TRANSP:OPAQUE
URL:https://tallinnajaani.ee/component/icagenda/995-2017-09-21-08-08-22.htm
 l?layout=vcal
END:VEVENT
END:VCALENDAR
