BEGIN:VCALENDAR
VERSION:2.0
PRODID:-//EELK Tallinna Jaani kogudus//NONSGML kigkonsult.se iCalcreator 2.41.92//
CALSCALE:GREGORIAN
METHOD:PUBLISH
UID:61626236-3738-4963-a634-623062346365
X-WR-CALNAME:iCagenda
X-WR-CALDESC:Event Management Extension for Joomla!
X-WR-RELCALID:3E26604A-50F4-4449-8B3E-E4F4932D05B5
X-WR-TIMEZONE:Europe/Tallinn
BEGIN:VTIMEZONE
TZID:Europe/Tallinn
TZUNTIL:20200329T010000Z
BEGIN:STANDARD
TZNAME:EET
DTSTART:20171029T040000
TZOFFSETFROM:+0300
TZOFFSETTO:+0200
RDATE:20181028T040000
RDATE:20191027T040000
END:STANDARD
BEGIN:DAYLIGHT
TZNAME:EEST
DTSTART:20180325T030000
TZOFFSETFROM:+0200
TZOFFSETTO:+0300
RDATE:20190331T030000
END:DAYLIGHT
END:VTIMEZONE
BEGIN:VEVENT
UID:63313332-6531-4566-b864-393430323031
DTSTAMP:20260420T115141Z
CATEGORIES:Muud sündmused
CLASS:PUBLIC
DESCRIPTION;ALTREP="CID:<FFFF__=0ABBE548DFE235B58f9e8a93d@coffeebean.com>":
 Peeter Sink - maalid.Näitus üleval 4. mai kuni 4. juuni 2018.
DTSTART:20180504T123000Z
DTEND:20180504T123000Z
GEO:00;0
LOCATION:Kiriku lõunasaal/galerii.
ORGANIZER:
SEQUENCE:1
SUMMARY:Näituse avamine.
TRANSP:OPAQUE
URL:https://tallinnajaani.ee/component/icagenda/936-n%C3%A4ituse-avamine-4/
 2018-05-04-15-30.html
END:VEVENT
END:VCALENDAR
