BEGIN:VCALENDAR
VERSION:2.0
PRODID:-//EELK Tallinna Jaani kogudus//NONSGML kigkonsult.se iCalcreator 2.41.92//
CALSCALE:GREGORIAN
METHOD:PUBLISH
UID:66613935-6536-4933-b136-363461336265
X-WR-CALNAME:iCagenda
X-WR-CALDESC:Event Management Extension for Joomla!
X-WR-RELCALID:3E26604A-50F4-4449-8B3E-E4F4932D05B5
X-WR-TIMEZONE:Europe/Tallinn
BEGIN:VTIMEZONE
TZID:Europe/Tallinn
TZUNTIL:20191027T010000Z
BEGIN:STANDARD
TZNAME:EET
DTSTART:20171029T040000
TZOFFSETFROM:+0300
TZOFFSETTO:+0200
RDATE:20181028T040000
END:STANDARD
BEGIN:DAYLIGHT
TZNAME:EEST
DTSTART:20180325T030000
TZOFFSETFROM:+0200
TZOFFSETTO:+0300
RDATE:20190331T030000
END:DAYLIGHT
END:VTIMEZONE
BEGIN:VEVENT
UID:31346631-6263-4636-a262-633462343963
DTSTAMP:20260421T090346Z
CATEGORIES:Jumalateenistus\, palvus
CLASS:PUBLIC
DESCRIPTION;ALTREP="CID:<FFFF__=0ABBE548DFE235B58f9e8a93d@coffeebean.com>":
 Orelil Tiia Tenno. Laulab koguduse naiskoor\, dirigent Aivi Otsnik.Jumalat
 eenistuse ajal keldrisaalis lastehoid.Peale jumalateenistust lõunasaalis k
 irikukohv.
DTSTART:20180415T070000Z
DTEND:20180415T070000Z
GEO:00;0
LOCATION:
ORGANIZER:
SEQUENCE:1
SUMMARY:Jumalateenistus armulauaga.
TRANSP:OPAQUE
URL:https://tallinnajaani.ee/component/icagenda/884-vana-aasta-%C3%B5htu-ju
 malateenistus-armulauaga-19.html
END:VEVENT
END:VCALENDAR
