BEGIN:VCALENDAR
VERSION:2.0
PRODID:-//EELK Tallinna Jaani kogudus//NONSGML kigkonsult.se iCalcreator 2.41.92//
CALSCALE:GREGORIAN
METHOD:PUBLISH
UID:35616532-6430-4334-a466-363731363737
X-WR-CALNAME:iCagenda
X-WR-CALDESC:Event Management Extension for Joomla!
X-WR-RELCALID:3E26604A-50F4-4449-8B3E-E4F4932D05B5
X-WR-TIMEZONE:Europe/Tallinn
BEGIN:VTIMEZONE
TZID:Europe/Tallinn
TZUNTIL:20191027T010000Z
BEGIN:STANDARD
TZNAME:EET
DTSTART:20171029T040000
TZOFFSETFROM:+0300
TZOFFSETTO:+0200
RDATE:20181028T040000
END:STANDARD
BEGIN:DAYLIGHT
TZNAME:EEST
DTSTART:20170326T030000
TZOFFSETFROM:+0200
TZOFFSETTO:+0300
RDATE:20180325T030000
RDATE:20190331T030000
END:DAYLIGHT
END:VTIMEZONE
BEGIN:VEVENT
UID:35356363-3833-4431-b437-376566613366
DTSTAMP:20260426T023419Z
CATEGORIES:Kirikukontsert
CLASS:PUBLIC
DESCRIPTION;ALTREP="CID:<FFFF__=0ABBE548DFE235B58f9e8a93d@coffeebean.com>":
 Noorteorkester Tallinna Puhkpillisümfoonikud ja solistid. Kaastegevad Tall
 inna Muusikakeskkooli trompetiansambel\, Neeme Ots (trompet)\, Tiia Tenno 
 (orel) ja Meeli Ots (klaver). Dirigendid Aavo Ots\, Priit Sonn ja Kaido Ki
 vi.(Korraldab MTÜ A. Ots Puhkpillisümfoonikud)
DTSTART:20180217T170000Z
DTEND:20180217T170000Z
GEO:00;0
LOCATION:
ORGANIZER:
SEQUENCE:1
SUMMARY:Kontsert.
TRANSP:OPAQUE
URL:https://tallinnajaani.ee/component/icagenda/824-kontsert/2018-02-17-19-
 00.html?Itemid=128&layout=vcal
END:VEVENT
END:VCALENDAR
