BEGIN:VCALENDAR
VERSION:2.0
PRODID:-//EELK Tallinna Jaani kogudus//NONSGML kigkonsult.se iCalcreator 2.41.92//
CALSCALE:GREGORIAN
METHOD:PUBLISH
UID:39636236-6464-4366-b163-323834656335
X-WR-CALNAME:iCagenda
X-WR-CALDESC:Event Management Extension for Joomla!
X-WR-RELCALID:3E26604A-50F4-4449-8B3E-E4F4932D05B5
X-WR-TIMEZONE:Europe/Tallinn
BEGIN:VTIMEZONE
TZID:Europe/Tallinn
TZUNTIL:20191027T010000Z
BEGIN:STANDARD
TZNAME:EET
DTSTART:20171029T040000
TZOFFSETFROM:+0300
TZOFFSETTO:+0200
RDATE:20181028T040000
END:STANDARD
BEGIN:DAYLIGHT
TZNAME:EEST
DTSTART:20170326T030000
TZOFFSETFROM:+0200
TZOFFSETTO:+0300
RDATE:20180325T030000
RDATE:20190331T030000
END:DAYLIGHT
END:VTIMEZONE
BEGIN:VEVENT
UID:31656337-3239-4336-b132-393232353366
DTSTAMP:20260422T034630Z
CATEGORIES:Jumalateenistus\, palvus
CLASS:PUBLIC
DESCRIPTION;ALTREP="CID:<FFFF__=0ABBE548DFE235B58f9e8a93d@coffeebean.com>":
 Orelil Maris Oidekivi-Kaufmann. Laulab koguduse naiskoor\, dirigent Aivi O
 tsnik.
DTSTART:20171225T080000Z
DTEND:20171225T080000Z
GEO:00;0
LOCATION:
ORGANIZER:
SEQUENCE:1
SUMMARY:I Jõulupüha jumalateenistus.
TRANSP:OPAQUE
URL:https://tallinnajaani.ee/component/icagenda/723-jumalateenistus-armulau
 aga-64.html
END:VEVENT
END:VCALENDAR
