BEGIN:VCALENDAR
VERSION:2.0
PRODID:-//EELK Tallinna Jaani kogudus//NONSGML kigkonsult.se iCalcreator 2.41.92//
CALSCALE:GREGORIAN
METHOD:PUBLISH
UID:61636532-3963-4063-b966-316235353464
X-WR-CALNAME:iCagenda
X-WR-CALDESC:Event Management Extension for Joomla!
X-WR-RELCALID:3E26604A-50F4-4449-8B3E-E4F4932D05B5
X-WR-TIMEZONE:Europe/Tallinn
BEGIN:VTIMEZONE
TZID:Europe/Tallinn
TZUNTIL:20191027T010000Z
BEGIN:STANDARD
TZNAME:EET
DTSTART:20171029T040000
TZOFFSETFROM:+0300
TZOFFSETTO:+0200
RDATE:20181028T040000
END:STANDARD
BEGIN:DAYLIGHT
TZNAME:EEST
DTSTART:20170326T030000
TZOFFSETFROM:+0200
TZOFFSETTO:+0300
RDATE:20180325T030000
RDATE:20190331T030000
END:DAYLIGHT
END:VTIMEZONE
BEGIN:VEVENT
UID:31663438-3530-4232-b834-636235636666
DTSTAMP:20260420T095045Z
CATEGORIES:Muud sündmused
CLASS:PUBLIC
DESCRIPTION:
DTSTART:20171129T120000Z
DTEND:20171129T120000Z
GEO:00;0
LOCATION:Kiriku lõunasaalis.
ORGANIZER:
SEQUENCE:1
SUMMARY:Piiblitund.
TRANSP:OPAQUE
URL:https://tallinnajaani.ee/component/icagenda/665-piiblitund-80.html
END:VEVENT
END:VCALENDAR
