BEGIN:VCALENDAR
VERSION:2.0
PRODID:-//EELK Tallinna Jaani kogudus//NONSGML kigkonsult.se iCalcreator 2.41.92//
CALSCALE:GREGORIAN
METHOD:PUBLISH
UID:36663235-6439-4538-b533-353636386535
X-WR-CALNAME:iCagenda
X-WR-CALDESC:Event Management Extension for Joomla!
X-WR-RELCALID:3E26604A-50F4-4449-8B3E-E4F4932D05B5
X-WR-TIMEZONE:Europe/Tallinn
BEGIN:VTIMEZONE
TZID:Europe/Tallinn
TZUNTIL:20181028T010000Z
BEGIN:STANDARD
TZNAME:EET
DTSTART:20161030T040000
TZOFFSETFROM:+0300
TZOFFSETTO:+0200
RDATE:20171029T040000
END:STANDARD
BEGIN:DAYLIGHT
TZNAME:EEST
DTSTART:20160327T030000
TZOFFSETFROM:+0200
TZOFFSETTO:+0300
RDATE:20170326T030000
RDATE:20180325T030000
END:DAYLIGHT
END:VTIMEZONE
BEGIN:VEVENT
UID:66366261-3833-4035-b061-353264623434
DTSTAMP:20260420T095953Z
CATEGORIES:Muud sündmused
CLASS:PUBLIC
DESCRIPTION;ALTREP="CID:<FFFF__=0ABBE548DFE235B58f9e8a93d@coffeebean.com>":
 Palvust peab Annely Neame.
DTSTART:20170214T153000Z
DTEND:20170214T153000Z
GEO:00;0
LOCATION:Kiriku keldrisaalis.
ORGANIZER:
SEQUENCE:1
SUMMARY:Tooma palvus.
TRANSP:OPAQUE
URL:https://tallinnajaani.ee/component/icagenda/375-tooma-palvus-36.html
END:VEVENT
END:VCALENDAR
