BEGIN:VCALENDAR
VERSION:2.0
PRODID:-//EELK Tallinna Jaani kogudus//NONSGML kigkonsult.se iCalcreator 2.41.92//
CALSCALE:GREGORIAN
METHOD:PUBLISH
UID:61353937-3735-4065-b565-663262393830
X-WR-CALNAME:iCagenda
X-WR-CALDESC:Event Management Extension for Joomla!
X-WR-RELCALID:3E26604A-50F4-4449-8B3E-E4F4932D05B5
X-WR-TIMEZONE:Europe/Tallinn
BEGIN:VTIMEZONE
TZID:Europe/Tallinn
TZUNTIL:20251026T010000Z
BEGIN:STANDARD
TZNAME:EET
DTSTART:20231029T040000
TZOFFSETFROM:+0300
TZOFFSETTO:+0200
RDATE:20241027T040000
END:STANDARD
BEGIN:DAYLIGHT
TZNAME:EEST
DTSTART:20230326T030000
TZOFFSETFROM:+0200
TZOFFSETTO:+0300
RDATE:20240331T030000
RDATE:20250330T030000
END:DAYLIGHT
END:VTIMEZONE
BEGIN:VEVENT
UID:35373462-3131-4037-b163-353665303534
DTSTAMP:20260421T185223Z
CATEGORIES:Muud sündmused
CLASS:PUBLIC
DESCRIPTION;ALTREP="CID:<FFFF__=0ABBE548DFE235B58f9e8a93d@coffeebean.com>":
 Külaliseks 2025. aasta XXVIII üldlaulupeo kunstiline juht ja EELK 2024. aa
 sta vaimuliku laulupeo 'Rõõm üle maa' kunstiline juht HELI JÜRGENSON.Õhtut
  juhib Jaan Tammsalu.Orelil Maris Tammsalu.
DTSTART:20240205T160000Z
DTEND:20240205T160000Z
GEO:00;0
LOCATION:
ORGANIZER:
SEQUENCE:1
SUMMARY:Loodud sõna õhtu.
TRANSP:OPAQUE
URL:https://tallinnajaani.ee/component/icagenda/2936-loodud-s%C3%B5na-%C3%B
 5htu-26/2024-02-05-18-00.html
END:VEVENT
END:VCALENDAR
