BEGIN:VCALENDAR
VERSION:2.0
PRODID:-//EELK Tallinna Jaani kogudus//NONSGML kigkonsult.se iCalcreator 2.41.92//
CALSCALE:GREGORIAN
METHOD:PUBLISH
UID:63616237-3961-4537-b136-633736636566
X-WR-CALNAME:iCagenda
X-WR-CALDESC:Event Management Extension for Joomla!
X-WR-RELCALID:3E26604A-50F4-4449-8B3E-E4F4932D05B5
X-WR-TIMEZONE:Europe/Tallinn
BEGIN:VTIMEZONE
TZID:Europe/Tallinn
TZUNTIL:20250330T010000Z
BEGIN:STANDARD
TZNAME:EET
DTSTART:20221030T040000
TZOFFSETFROM:+0300
TZOFFSETTO:+0200
RDATE:20231029T040000
RDATE:20241027T040000
END:STANDARD
BEGIN:DAYLIGHT
TZNAME:EEST
DTSTART:20230326T030000
TZOFFSETFROM:+0200
TZOFFSETTO:+0300
RDATE:20240331T030000
END:DAYLIGHT
END:VTIMEZONE
BEGIN:VEVENT
UID:36663236-6564-4263-a561-633836623463
DTSTAMP:20260420T101940Z
CATEGORIES:Jumalateenistus\, palvus
CLASS:PUBLIC
DESCRIPTION:
DTSTART:20230921T090000Z
DTEND:20230921T090000Z
GEO:00;0
LOCATION:
ORGANIZER:
SEQUENCE:1
SUMMARY:Armulauaga palvus.
TRANSP:OPAQUE
URL:https://tallinnajaani.ee/component/icagenda/2813-armulauaga-palvus-178/
 2023-09-21-12-00.html
END:VEVENT
END:VCALENDAR
