BEGIN:VCALENDAR
VERSION:2.0
PRODID:-//EELK Tallinna Jaani kogudus//NONSGML kigkonsult.se iCalcreator 2.41.92//
CALSCALE:GREGORIAN
METHOD:PUBLISH
UID:63356363-6662-4339-a361-363266373037
X-WR-CALNAME:iCagenda
X-WR-CALDESC:Event Management Extension for Joomla!
X-WR-RELCALID:3E26604A-50F4-4449-8B3E-E4F4932D05B5
X-WR-TIMEZONE:Europe/Tallinn
BEGIN:VTIMEZONE
TZID:Europe/Tallinn
TZUNTIL:20250330T010000Z
BEGIN:STANDARD
TZNAME:EET
DTSTART:20221030T040000
TZOFFSETFROM:+0300
TZOFFSETTO:+0200
RDATE:20231029T040000
RDATE:20241027T040000
END:STANDARD
BEGIN:DAYLIGHT
TZNAME:EEST
DTSTART:20230326T030000
TZOFFSETFROM:+0200
TZOFFSETTO:+0300
RDATE:20240331T030000
END:DAYLIGHT
END:VTIMEZONE
BEGIN:VEVENT
UID:65363366-3063-4232-b536-663335656435
DTSTAMP:20260423T141945Z
CATEGORIES:Kirikukontsert
CLASS:PUBLIC
DESCRIPTION;ALTREP="CID:<FFFF__=0ABBE548DFE235B58f9e8a93d@coffeebean.com>":
 Barokkorkester Barrocade Iisraelist.Dirigent Andres Mustonen.(Korraldab OÜ
  ERP)
DTSTART:20230901T160000Z
DTEND:20230901T160000Z
GEO:00;0
LOCATION:
ORGANIZER:
SEQUENCE:1
SUMMARY:Kontsert (piletitega).
TRANSP:OPAQUE
URL:https://tallinnajaani.ee/component/icagenda/2801-kontsert-piletitega-10
 1/2023-09-01-19-00.html
END:VEVENT
END:VCALENDAR
