BEGIN:VCALENDAR
VERSION:2.0
PRODID:-//EELK Tallinna Jaani kogudus//NONSGML kigkonsult.se iCalcreator 2.41.92//
CALSCALE:GREGORIAN
METHOD:PUBLISH
UID:62653430-6664-4463-b164-336566396430
X-WR-CALNAME:iCagenda
X-WR-CALDESC:Event Management Extension for Joomla!
X-WR-RELCALID:3E26604A-50F4-4449-8B3E-E4F4932D05B5
X-WR-TIMEZONE:Europe/Tallinn
BEGIN:VTIMEZONE
TZID:Europe/Tallinn
TZUNTIL:20241027T010000Z
BEGIN:STANDARD
TZNAME:EET
DTSTART:20221030T040000
TZOFFSETFROM:+0300
TZOFFSETTO:+0200
RDATE:20231029T040000
END:STANDARD
BEGIN:DAYLIGHT
TZNAME:EEST
DTSTART:20230326T030000
TZOFFSETFROM:+0200
TZOFFSETTO:+0300
RDATE:20240331T030000
END:DAYLIGHT
END:VTIMEZONE
BEGIN:VEVENT
UID:63366261-3733-4366-b536-626561613334
DTSTAMP:20260421T090210Z
CATEGORIES:Muud sündmused
CLASS:PUBLIC
DESCRIPTION;ALTREP="CID:<FFFF__=0ABBE548DFE235B58f9e8a93d@coffeebean.com>":
 Clive Staples Lewis „Lihtsalt kristlus“ II.Vestlusringi juhib Sander-Ingem
 ar Kasak.\n&nbsp\;
DTSTART:20230404T150000Z
DTEND:20230404T150000Z
GEO:00;0
LOCATION:Kiriku põhja-keldrisaalis.
ORGANIZER:
SEQUENCE:1
SUMMARY:Kirjandusklubi.
TRANSP:OPAQUE
URL:https://tallinnajaani.ee/component/icagenda/2676-kirjandusklubi,-ii-5/2
 023-04-04-18-00.html
END:VEVENT
END:VCALENDAR
