BEGIN:VCALENDAR
VERSION:2.0
PRODID:-//EELK Tallinna Jaani kogudus//NONSGML kigkonsult.se iCalcreator 2.41.92//
CALSCALE:GREGORIAN
METHOD:PUBLISH
UID:36653730-6633-4136-a134-313036386438
X-WR-CALNAME:iCagenda
X-WR-CALDESC:Event Management Extension for Joomla!
X-WR-RELCALID:3E26604A-50F4-4449-8B3E-E4F4932D05B5
X-WR-TIMEZONE:Europe/Tallinn
BEGIN:VTIMEZONE
TZID:Europe/Tallinn
TZUNTIL:20240331T010000Z
BEGIN:STANDARD
TZNAME:EET
DTSTART:20211031T040000
TZOFFSETFROM:+0300
TZOFFSETTO:+0200
RDATE:20221030T040000
RDATE:20231029T040000
END:STANDARD
BEGIN:DAYLIGHT
TZNAME:EEST
DTSTART:20220327T030000
TZOFFSETFROM:+0200
TZOFFSETTO:+0300
RDATE:20230326T030000
END:DAYLIGHT
END:VTIMEZONE
BEGIN:VEVENT
UID:64326164-6237-4033-b063-646537623939
DTSTAMP:20260422T074144Z
CATEGORIES:Kirikukontsert
CLASS:PUBLIC
DESCRIPTION;ALTREP="CID:<FFFF__=0ABBE548DFE235B58f9e8a93d@coffeebean.com>":
 Läti erivajadustega inimeste organisatsiooni Nāc līdzās! (Tule kaasa!) lau
 lukoor.(Korraldab MTÜ Vaimupuu)
DTSTART:20220925T084500Z
DTEND:20220925T084500Z
GEO:00;0
LOCATION:
ORGANIZER:
SEQUENCE:1
SUMMARY:Kontsert.
TRANSP:OPAQUE
URL:https://tallinnajaani.ee/component/icagenda/2500-kontsert-50/2022-09-25
 -11-45.html
END:VEVENT
END:VCALENDAR
