BEGIN:VCALENDAR
VERSION:2.0
PRODID:-//EELK Tallinna Jaani kogudus//NONSGML kigkonsult.se iCalcreator 2.41.92//
CALSCALE:GREGORIAN
METHOD:PUBLISH
UID:31633965-3939-4065-b963-633233653539
X-WR-CALNAME:iCagenda
X-WR-CALDESC:Event Management Extension for Joomla!
X-WR-RELCALID:3E26604A-50F4-4449-8B3E-E4F4932D05B5
X-WR-TIMEZONE:Europe/Tallinn
BEGIN:VTIMEZONE
TZID:Europe/Tallinn
TZUNTIL:20240331T010000Z
BEGIN:STANDARD
TZNAME:EET
DTSTART:20211031T040000
TZOFFSETFROM:+0300
TZOFFSETTO:+0200
RDATE:20221030T040000
RDATE:20231029T040000
END:STANDARD
BEGIN:DAYLIGHT
TZNAME:EEST
DTSTART:20220327T030000
TZOFFSETFROM:+0200
TZOFFSETTO:+0300
RDATE:20230326T030000
END:DAYLIGHT
END:VTIMEZONE
BEGIN:VEVENT
UID:32383434-3939-4265-b637-616461366636
DTSTAMP:20260421T144249Z
CATEGORIES:Kirikukontsert
CLASS:PUBLIC
DESCRIPTION;ALTREP="CID:<FFFF__=0ABBE548DFE235B58f9e8a93d@coffeebean.com>":
 Orelil Tiia Tenno.Viilul Meelis Vahar.
DTSTART:20220511T103000Z
DTEND:20220511T103000Z
GEO:00;0
LOCATION:
ORGANIZER:
SEQUENCE:1
SUMMARY:Hardushetk (kontsertmõtisklus).
TRANSP:OPAQUE
URL:https://tallinnajaani.ee/component/icagenda/2379-hardushetk-kontsertm%C
 3%B5tisklus-151/2022-05-11-13-30.html?Itemid=128
END:VEVENT
END:VCALENDAR
