BEGIN:VCALENDAR
VERSION:2.0
PRODID:-//EELK Tallinna Jaani kogudus//NONSGML kigkonsult.se iCalcreator 2.41.92//
CALSCALE:GREGORIAN
METHOD:PUBLISH
UID:61636135-3735-4036-b762-626631646436
X-WR-CALNAME:iCagenda
X-WR-CALDESC:Event Management Extension for Joomla!
X-WR-RELCALID:3E26604A-50F4-4449-8B3E-E4F4932D05B5
X-WR-TIMEZONE:Europe/Tallinn
BEGIN:VTIMEZONE
TZID:Europe/Tallinn
TZUNTIL:20230326T010000Z
BEGIN:STANDARD
TZNAME:EET
DTSTART:20201025T040000
TZOFFSETFROM:+0300
TZOFFSETTO:+0200
RDATE:20211031T040000
RDATE:20221030T040000
END:STANDARD
BEGIN:DAYLIGHT
TZNAME:EEST
DTSTART:20210328T030000
TZOFFSETFROM:+0200
TZOFFSETTO:+0300
RDATE:20220327T030000
END:DAYLIGHT
END:VTIMEZONE
BEGIN:VEVENT
UID:30633263-3939-4161-a631-343539363135
DTSTAMP:20260422T174447Z
CATEGORIES:Tooma missa/palvus
CLASS:PUBLIC
DESCRIPTION:
DTSTART:20210614T150000Z
DTEND:20210614T150000Z
GEO:00;0
LOCATION:Kiriku põhja-keldrisaalis.
ORGANIZER:
SEQUENCE:1
SUMMARY:Tooma palvus Taizé lauludega.
TRANSP:OPAQUE
URL:https://tallinnajaani.ee/component/icagenda/2086-palvus-taiz%C3%A9-laul
 udega-27/2021-06-14-18-00.html?Itemid=128
END:VEVENT
END:VCALENDAR
