BEGIN:VCALENDAR
VERSION:2.0
PRODID:-//EELK Tallinna Jaani kogudus//NONSGML kigkonsult.se iCalcreator 2.41.92//
CALSCALE:GREGORIAN
METHOD:PUBLISH
UID:34616235-3536-4337-b535-333839353265
X-WR-CALNAME:iCagenda
X-WR-CALDESC:Event Management Extension for Joomla!
X-WR-RELCALID:3E26604A-50F4-4449-8B3E-E4F4932D05B5
X-WR-TIMEZONE:Europe/Tallinn
BEGIN:VTIMEZONE
TZID:Europe/Tallinn
TZUNTIL:20221030T010000Z
BEGIN:STANDARD
TZNAME:EET
DTSTART:20201025T040000
TZOFFSETFROM:+0300
TZOFFSETTO:+0200
RDATE:20211031T040000
END:STANDARD
BEGIN:DAYLIGHT
TZNAME:EEST
DTSTART:20200329T030000
TZOFFSETFROM:+0200
TZOFFSETTO:+0300
RDATE:20210328T030000
RDATE:20220327T030000
END:DAYLIGHT
END:VTIMEZONE
BEGIN:VEVENT
UID:39376135-6634-4035-b665-663033626531
DTSTAMP:20260424T143750Z
CATEGORIES:Jumalateenistus\, palvus
CLASS:PUBLIC
DESCRIPTION;ALTREP="CID:<FFFF__=0ABBE548DFE235B58f9e8a93d@coffeebean.com>":
 Orelil Maris Oidekivi.
DTSTART:20201115T080000Z
DTEND:20201115T080000Z
GEO:00;0
LOCATION:
ORGANIZER:
SEQUENCE:1
SUMMARY:Jumalateenistus armulauaga.
TRANSP:OPAQUE
URL:https://tallinnajaani.ee/component/icagenda/1857-2020-04-24-11-44-27/20
 20-11-15-10-00.html?Itemid=128
END:VEVENT
END:VCALENDAR
