BEGIN:VCALENDAR
VERSION:2.0
PRODID:-//EELK Tallinna Jaani kogudus//NONSGML kigkonsult.se iCalcreator 2.41.92//
CALSCALE:GREGORIAN
METHOD:PUBLISH
UID:62313261-3562-4930-b838-376631643463
X-WR-CALNAME:iCagenda
X-WR-CALDESC:Event Management Extension for Joomla!
X-WR-RELCALID:3E26604A-50F4-4449-8B3E-E4F4932D05B5
X-WR-TIMEZONE:Europe/Tallinn
BEGIN:VTIMEZONE
TZID:Europe/Tallinn
TZUNTIL:20220327T010000Z
BEGIN:STANDARD
TZNAME:EET
DTSTART:20191027T040000
TZOFFSETFROM:+0300
TZOFFSETTO:+0200
RDATE:20201025T040000
RDATE:20211031T040000
END:STANDARD
BEGIN:DAYLIGHT
TZNAME:EEST
DTSTART:20200329T030000
TZOFFSETFROM:+0200
TZOFFSETTO:+0300
RDATE:20210328T030000
END:DAYLIGHT
END:VTIMEZONE
BEGIN:VEVENT
UID:64386132-3535-4531-a262-646432323438
DTSTAMP:20260420T113738Z
CATEGORIES:Jumalateenistus\, palvus
CLASS:PUBLIC
DESCRIPTION;ALTREP="CID:<FFFF__=0ABBE548DFE235B58f9e8a93d@coffeebean.com>":
 Kaasa teenib Arne Hiob.Orelil Maris Oidekivi-Kaufmann.Flöödil Helis Oideki
 vi.
DTSTART:20200503T070000Z
DTEND:20200503T070000Z
GEO:00;0
LOCATION:
ORGANIZER:
SEQUENCE:1
SUMMARY:Sõnajumalateenistus (ülekanne).
TRANSP:OPAQUE
URL:https://tallinnajaani.ee/component/icagenda/1706-s%C3%B5najumalateenist
 us-%C3%BClekanne-2.html
END:VEVENT
END:VCALENDAR
