BEGIN:VCALENDAR
VERSION:2.0
PRODID:-//EELK Tallinna Jaani kogudus//NONSGML kigkonsult.se iCalcreator 2.41.92//
CALSCALE:GREGORIAN
METHOD:PUBLISH
UID:64323537-3535-4234-b230-636532353637
X-WR-CALNAME:iCagenda
X-WR-CALDESC:Event Management Extension for Joomla!
X-WR-RELCALID:3E26604A-50F4-4449-8B3E-E4F4932D05B5
X-WR-TIMEZONE:Europe/Tallinn
BEGIN:VTIMEZONE
TZID:Europe/Tallinn
TZUNTIL:20211031T010000Z
BEGIN:STANDARD
TZNAME:EET
DTSTART:20191027T040000
TZOFFSETFROM:+0300
TZOFFSETTO:+0200
RDATE:20201025T040000
END:STANDARD
BEGIN:DAYLIGHT
TZNAME:EEST
DTSTART:20190331T030000
TZOFFSETFROM:+0200
TZOFFSETTO:+0300
RDATE:20200329T030000
RDATE:20210328T030000
END:DAYLIGHT
END:VTIMEZONE
BEGIN:VEVENT
UID:33613736-3235-4061-a264-613438356539
DTSTAMP:20260424T123902Z
CATEGORIES:Jumalateenistus\, palvus
CLASS:PUBLIC
DESCRIPTION;ALTREP="CID:<FFFF__=0ABBE548DFE235B58f9e8a93d@coffeebean.com>":
 Orelil Tiia Tenno.Jumalateenistuse lõpus kauneimate jõululaulude laulmine.
 Peale jumalateenistust lõunasaalis kirikukohv.
DTSTART:20200105T080000Z
DTEND:20200105T080000Z
GEO:00;0
LOCATION:
ORGANIZER:
SEQUENCE:1
SUMMARY:Jumalateenistus armulauaga.
TRANSP:OPAQUE
URL:https://tallinnajaani.ee/component/icagenda/1578-i-advendi-jumalateenis
 tus-armulauaga-kirikuaasta-algus-56/2020-01-05-10-00.html?Itemid=128
END:VEVENT
END:VCALENDAR
