BEGIN:VCALENDAR
VERSION:2.0
PRODID:-//EELK Tallinna Jaani kogudus//NONSGML kigkonsult.se iCalcreator 2.41.92//
CALSCALE:GREGORIAN
METHOD:PUBLISH
UID:65663864-3964-4261-a365-623263333464
X-WR-CALNAME:iCagenda
X-WR-CALDESC:Event Management Extension for Joomla!
X-WR-RELCALID:3E26604A-50F4-4449-8B3E-E4F4932D05B5
X-WR-TIMEZONE:Europe/Tallinn
BEGIN:VTIMEZONE
TZID:Europe/Tallinn
TZUNTIL:20211031T010000Z
BEGIN:STANDARD
TZNAME:EET
DTSTART:20181028T040000
TZOFFSETFROM:+0300
TZOFFSETTO:+0200
RDATE:20191027T040000
RDATE:20201025T040000
END:STANDARD
BEGIN:DAYLIGHT
TZNAME:EEST
DTSTART:20190331T030000
TZOFFSETFROM:+0200
TZOFFSETTO:+0300
RDATE:20200329T030000
RDATE:20210328T030000
END:DAYLIGHT
END:VTIMEZONE
BEGIN:VEVENT
UID:65626662-3530-4438-b634-626535303664
DTSTAMP:20260422T103751Z
CATEGORIES:Jumalateenistus\, palvus
CLASS:PUBLIC
DESCRIPTION;ALTREP="CID:<FFFF__=0ABBE548DFE235B58f9e8a93d@coffeebean.com>":
 Kuld- ja hõbeleeripüha.Leerikõne peab Toomas Paul.Laulab koguduse naiskoor
 \, dirigent Aivi Otsnik.Orelil Tiia Tenno.
DTSTART:20190929T070000Z
DTEND:20190929T070000Z
GEO:00;0
LOCATION:
ORGANIZER:
SEQUENCE:1
SUMMARY:Jumalateenistus armulauaga. Mihklipäev.
TRANSP:OPAQUE
URL:https://tallinnajaani.ee/component/icagenda/1451-i-advendi-jumalateenis
 tus-armulauaga-kirikuaasta-algus-42.html
END:VEVENT
END:VCALENDAR
