BEGIN:VCALENDAR
VERSION:2.0
PRODID:-//EELK Tallinna Jaani kogudus//NONSGML kigkonsult.se iCalcreator 2.41.92//
CALSCALE:GREGORIAN
METHOD:PUBLISH
UID:62653439-6366-4431-b763-666335386231
X-WR-CALNAME:iCagenda
X-WR-CALDESC:Event Management Extension for Joomla!
X-WR-RELCALID:3E26604A-50F4-4449-8B3E-E4F4932D05B5
X-WR-TIMEZONE:Europe/Tallinn
BEGIN:VTIMEZONE
TZID:Europe/Tallinn
TZUNTIL:20201025T010000Z
BEGIN:STANDARD
TZNAME:EET
DTSTART:20181028T040000
TZOFFSETFROM:+0300
TZOFFSETTO:+0200
RDATE:20191027T040000
END:STANDARD
BEGIN:DAYLIGHT
TZNAME:EEST
DTSTART:20190331T030000
TZOFFSETFROM:+0200
TZOFFSETTO:+0300
RDATE:20200329T030000
END:DAYLIGHT
END:VTIMEZONE
BEGIN:VEVENT
UID:35373136-3432-4161-a661-366164313232
DTSTAMP:20260421T212840Z
CATEGORIES:Muud sündmused
CLASS:PUBLIC
DESCRIPTION:
DTSTART:20190403T110000Z
DTEND:20190403T110000Z
GEO:00;0
LOCATION:Kiriku lõunasaalis.
ORGANIZER:
SEQUENCE:1
SUMMARY:Piiblitund.
TRANSP:OPAQUE
URL:https://tallinnajaani.ee/component/icagenda/1289-piiblitund-150.html
END:VEVENT
END:VCALENDAR
