BEGIN:VCALENDAR
VERSION:2.0
PRODID:-//EELK Tallinna Jaani kogudus//NONSGML kigkonsult.se iCalcreator 2.41.92//
CALSCALE:GREGORIAN
METHOD:PUBLISH
UID:63383063-3363-4537-b561-343434323464
X-WR-CALNAME:iCagenda
X-WR-CALDESC:Event Management Extension for Joomla!
X-WR-RELCALID:3E26604A-50F4-4449-8B3E-E4F4932D05B5
X-WR-TIMEZONE:Europe/Tallinn
BEGIN:VTIMEZONE
TZID:Europe/Tallinn
TZUNTIL:20201025T010000Z
BEGIN:STANDARD
TZNAME:EET
DTSTART:20181028T040000
TZOFFSETFROM:+0300
TZOFFSETTO:+0200
RDATE:20191027T040000
END:STANDARD
BEGIN:DAYLIGHT
TZNAME:EEST
DTSTART:20180325T030000
TZOFFSETFROM:+0200
TZOFFSETTO:+0300
RDATE:20190331T030000
RDATE:20200329T030000
END:DAYLIGHT
END:VTIMEZONE
BEGIN:VEVENT
UID:62663761-3235-4236-b335-626135363938
DTSTAMP:20260420T101056Z
CATEGORIES:Muud sündmused
CLASS:PUBLIC
DESCRIPTION:
DTSTART:20190313T160000Z
DTEND:20190313T160000Z
GEO:00;0
LOCATION:Kiriku lõuna-keldrisaalis.
ORGANIZER:
SEQUENCE:1
SUMMARY:Piiblitund.
TRANSP:OPAQUE
URL:https://tallinnajaani.ee/component/icagenda/1262-piiblitund-145.html
END:VEVENT
END:VCALENDAR
