BEGIN:VCALENDAR
VERSION:2.0
PRODID:-//EELK Tallinna Jaani kogudus//NONSGML kigkonsult.se iCalcreator 2.41.92//
CALSCALE:GREGORIAN
METHOD:PUBLISH
UID:31646361-3938-4161-b030-646231663961
X-WR-CALNAME:iCagenda
X-WR-CALDESC:Event Management Extension for Joomla!
X-WR-RELCALID:3E26604A-50F4-4449-8B3E-E4F4932D05B5
X-WR-TIMEZONE:Europe/Tallinn
BEGIN:VTIMEZONE
TZID:Europe/Tallinn
TZUNTIL:20201025T010000Z
BEGIN:STANDARD
TZNAME:EET
DTSTART:20171029T040000
TZOFFSETFROM:+0300
TZOFFSETTO:+0200
RDATE:20181028T040000
RDATE:20191027T040000
END:STANDARD
BEGIN:DAYLIGHT
TZNAME:EEST
DTSTART:20180325T030000
TZOFFSETFROM:+0200
TZOFFSETTO:+0300
RDATE:20190331T030000
RDATE:20200329T030000
END:DAYLIGHT
END:VTIMEZONE
BEGIN:VEVENT
UID:36623130-3335-4764-a633-333436306363
DTSTAMP:20260425T151905Z
CATEGORIES:Jumalateenistus\, palvus
CLASS:PUBLIC
DESCRIPTION;ALTREP="CID:<FFFF__=0ABBE548DFE235B58f9e8a93d@coffeebean.com>":
 Orelil Tiia Tenno.Laulab koguduse kammerkoor\, dirigent Reet Lend.
DTSTART:20181014T070000Z
DTEND:20181014T070000Z
GEO:00;0
LOCATION:
ORGANIZER:
SEQUENCE:1
SUMMARY:Lõikustänupüha jumalateenistus armulauaga.
TRANSP:OPAQUE
URL:https://tallinnajaani.ee/component/icagenda/1068-2016-11-11-11-46-66/20
 18-10-14-10-00.html?Itemid=128&layout=vcal
END:VEVENT
END:VCALENDAR
