BEGIN:VCALENDAR
VERSION:2.0
PRODID:-//EELK Tallinna Jaani kogudus//NONSGML kigkonsult.se iCalcreator 2.41.92//
CALSCALE:GREGORIAN
METHOD:PUBLISH
UID:66353939-6636-4763-b261-316336313137
X-WR-CALNAME:iCagenda
X-WR-CALDESC:Event Management Extension for Joomla!
X-WR-RELCALID:3E26604A-50F4-4449-8B3E-E4F4932D05B5
X-WR-TIMEZONE:Europe/Tallinn
BEGIN:VTIMEZONE
TZID:Europe/Tallinn
TZUNTIL:20280326T010000Z
BEGIN:STANDARD
TZNAME:EET
DTSTART:20251026T040000
TZOFFSETFROM:+0300
TZOFFSETTO:+0200
RDATE:20261025T040000
RDATE:20271031T040000
END:STANDARD
BEGIN:DAYLIGHT
TZNAME:EEST
DTSTART:20260329T030000
TZOFFSETFROM:+0200
TZOFFSETTO:+0300
RDATE:20270328T030000
END:DAYLIGHT
END:VTIMEZONE
BEGIN:VEVENT
UID:64323635-6431-4732-b562-643261646336
DTSTAMP:20260422T205312Z
CATEGORIES:Jumalateenistus\, palvus
CLASS:PUBLIC
DESCRIPTION;ALTREP="CID:<FFFF__=0ABBE548DFE235B58f9e8a93d@coffeebean.com>":
 Monika-Elevin Liiv (metsosopran).VHK keelpilliorkester.Dirigent Rasmus Puu
 r.(Korraldab Vanalinna Hariduskolleegium)
DTSTART:20260501T150000Z
DTEND:20260501T150000Z
GEO:00;0
LOCATION:
ORGANIZER:
SEQUENCE:1
SUMMARY:Kontsert (piletitega).
TRANSP:OPAQUE
URL:https://tallinnajaani.ee/avaleht/kalender/3624-kontsert-piletitega-202/
 2026-05-01-18-00.html
END:VEVENT
END:VCALENDAR
