BEGIN:VCALENDAR
VERSION:2.0
PRODID:-//EELK Tallinna Jaani kogudus//NONSGML kigkonsult.se iCalcreator 2.41.92//
CALSCALE:GREGORIAN
METHOD:PUBLISH
UID:63313438-6534-4831-a531-633066313539
X-WR-CALNAME:iCagenda
X-WR-CALDESC:Event Management Extension for Joomla!
X-WR-RELCALID:3E26604A-50F4-4449-8B3E-E4F4932D05B5
X-WR-TIMEZONE:Europe/Tallinn
BEGIN:VTIMEZONE
TZID:Europe/Tallinn
TZUNTIL:20250330T010000Z
BEGIN:STANDARD
TZNAME:EET
DTSTART:20221030T040000
TZOFFSETFROM:+0300
TZOFFSETTO:+0200
RDATE:20231029T040000
RDATE:20241027T040000
END:STANDARD
BEGIN:DAYLIGHT
TZNAME:EEST
DTSTART:20230326T030000
TZOFFSETFROM:+0200
TZOFFSETTO:+0300
RDATE:20240331T030000
END:DAYLIGHT
END:VTIMEZONE
BEGIN:VEVENT
UID:37313930-3165-4030-b235-633032346636
DTSTAMP:20260420T100735Z
CATEGORIES:Jumalateenistus\, palvus
CLASS:PUBLIC
DESCRIPTION:
DTSTART:20230612T150000Z
DTEND:20230612T150000Z
GEO:00;0
LOCATION:
ORGANIZER:
SEQUENCE:1
SUMMARY:Palvus Taizé lauludega.
TRANSP:OPAQUE
URL:https://tallinnajaani.ee/avaleht/kalender/2743-palvus-taiz%C3%A9-laulud
 ega-110/2023-06-12-18-00.html
END:VEVENT
END:VCALENDAR
