BEGIN:VCALENDAR
VERSION:2.0
PRODID:-//EELK Tallinna Jaani kogudus//NONSGML kigkonsult.se iCalcreator 2.41.92//
CALSCALE:GREGORIAN
METHOD:PUBLISH
UID:37333338-3838-4438-b334-663138643861
X-WR-CALNAME:iCagenda
X-WR-CALDESC:Event Management Extension for Joomla!
X-WR-RELCALID:3E26604A-50F4-4449-8B3E-E4F4932D05B5
X-WR-TIMEZONE:Europe/Tallinn
BEGIN:VTIMEZONE
TZID:Europe/Tallinn
TZUNTIL:20240331T010000Z
BEGIN:STANDARD
TZNAME:EET
DTSTART:20211031T040000
TZOFFSETFROM:+0300
TZOFFSETTO:+0200
RDATE:20221030T040000
RDATE:20231029T040000
END:STANDARD
BEGIN:DAYLIGHT
TZNAME:EEST
DTSTART:20220327T030000
TZOFFSETFROM:+0200
TZOFFSETTO:+0300
RDATE:20230326T030000
END:DAYLIGHT
END:VTIMEZONE
BEGIN:VEVENT
UID:39383662-6561-4261-b862-626366623166
DTSTAMP:20260421T090252Z
CATEGORIES:Kirikukontsert
CLASS:PUBLIC
DESCRIPTION;ALTREP="CID:<FFFF__=0ABBE548DFE235B58f9e8a93d@coffeebean.com>":
 &nbsp\;Maria Listra\, Jassi Zahharov ja Ingmar Erik Kiviloo.Klaveril Margu
 s Kappel.(Korraldab Gravity MTÜ)
DTSTART:20220722T170000Z
DTEND:20220722T170000Z
GEO:00;0
LOCATION:
ORGANIZER:
SEQUENCE:1
SUMMARY:Kontsert (piletitega).
TRANSP:OPAQUE
URL:https://tallinnajaani.ee/avaleht/kalender/2469-kontsert-piletitega-75/2
 022-07-22-20-00.html
END:VEVENT
END:VCALENDAR
