BEGIN:VCALENDAR
VERSION:2.0
PRODID:-//EELK Tallinna Jaani kogudus//NONSGML kigkonsult.se iCalcreator 2.41.92//
CALSCALE:GREGORIAN
METHOD:PUBLISH
UID:66623963-3432-4663-b335-323935376434
X-WR-CALNAME:iCagenda
X-WR-CALDESC:Event Management Extension for Joomla!
X-WR-RELCALID:3E26604A-50F4-4449-8B3E-E4F4932D05B5
X-WR-TIMEZONE:Europe/Tallinn
BEGIN:VTIMEZONE
TZID:Europe/Tallinn
TZUNTIL:20240331T010000Z
BEGIN:STANDARD
TZNAME:EET
DTSTART:20211031T040000
TZOFFSETFROM:+0300
TZOFFSETTO:+0200
RDATE:20221030T040000
RDATE:20231029T040000
END:STANDARD
BEGIN:DAYLIGHT
TZNAME:EEST
DTSTART:20220327T030000
TZOFFSETFROM:+0200
TZOFFSETTO:+0300
RDATE:20230326T030000
END:DAYLIGHT
END:VTIMEZONE
BEGIN:VEVENT
UID:35383130-3838-4665-a565-373165653530
DTSTAMP:20260420T111446Z
CATEGORIES:Kirikukontsert
CLASS:PUBLIC
DESCRIPTION;ALTREP="CID:<FFFF__=0ABBE548DFE235B58f9e8a93d@coffeebean.com>":
 EELK Segakoor KOSK.Koori 40. aastapäev
DTSTART:20220813T120000Z
DTEND:20220813T120000Z
GEO:00;0
LOCATION:
ORGANIZER:
SEQUENCE:1
SUMMARY:Kontsert.
TRANSP:OPAQUE
URL:https://tallinnajaani.ee/avaleht/kalender/2447-kontsert-46/2022-08-13-1
 5-00.html
END:VEVENT
END:VCALENDAR
