BEGIN:VCALENDAR
VERSION:2.0
PRODID:-//EELK Tallinna Jaani kogudus//NONSGML kigkonsult.se iCalcreator 2.41.92//
CALSCALE:GREGORIAN
METHOD:PUBLISH
UID:62666164-6235-4063-b733-623634353662
X-WR-CALNAME:iCagenda
X-WR-CALDESC:Event Management Extension for Joomla!
X-WR-RELCALID:3E26604A-50F4-4449-8B3E-E4F4932D05B5
X-WR-TIMEZONE:Europe/Tallinn
BEGIN:VTIMEZONE
TZID:Europe/Tallinn
TZUNTIL:20231029T010000Z
BEGIN:STANDARD
TZNAME:EET
DTSTART:20211031T040000
TZOFFSETFROM:+0300
TZOFFSETTO:+0200
RDATE:20221030T040000
END:STANDARD
BEGIN:DAYLIGHT
TZNAME:EEST
DTSTART:20210328T030000
TZOFFSETFROM:+0200
TZOFFSETTO:+0300
RDATE:20220327T030000
RDATE:20230326T030000
END:DAYLIGHT
END:VTIMEZONE
BEGIN:VEVENT
UID:37613438-6466-4636-a335-373465336261
DTSTAMP:20260423T180032Z
CATEGORIES:Muud sündmused
CLASS:PUBLIC
DESCRIPTION;ALTREP="CID:<FFFF__=0ABBE548DFE235B58f9e8a93d@coffeebean.com>":
 Aet Ollisaar - gobeläänid.(Näitus üleval kuni 13. jaanuarini 2022.
DTSTART:20211218T140000Z
DTEND:20211218T140000Z
GEO:00;0
LOCATION:Kiriku galeriis / lõunasaalis.
ORGANIZER:
SEQUENCE:1
SUMMARY:Näituse avamine.
TRANSP:OPAQUE
URL:https://tallinnajaani.ee/avaleht/kalender/2247-n%C3%A4ituse-avamine/202
 1-12-18-16-00.html
END:VEVENT
END:VCALENDAR
