BEGIN:VCALENDAR
VERSION:2.0
PRODID:-//EELK Tallinna Jaani kogudus//NONSGML kigkonsult.se iCalcreator 2.41.92//
CALSCALE:GREGORIAN
METHOD:PUBLISH
UID:36333530-6263-4037-b462-643964303938
X-WR-CALNAME:iCagenda
X-WR-CALDESC:Event Management Extension for Joomla!
X-WR-RELCALID:3E26604A-50F4-4449-8B3E-E4F4932D05B5
X-WR-TIMEZONE:Europe/Tallinn
BEGIN:VTIMEZONE
TZID:Europe/Tallinn
TZUNTIL:20231029T010000Z
BEGIN:STANDARD
TZNAME:EET
DTSTART:20211031T040000
TZOFFSETFROM:+0300
TZOFFSETTO:+0200
RDATE:20221030T040000
END:STANDARD
BEGIN:DAYLIGHT
TZNAME:EEST
DTSTART:20210328T030000
TZOFFSETFROM:+0200
TZOFFSETTO:+0300
RDATE:20220327T030000
RDATE:20230326T030000
END:DAYLIGHT
END:VTIMEZONE
BEGIN:VEVENT
UID:38616564-3933-4431-a431-353664353832
DTSTAMP:20260420T114514Z
CATEGORIES:Tooma missa/palvus
CLASS:PUBLIC
DESCRIPTION:
DTSTART:20211122T160000Z
DTEND:20211122T160000Z
GEO:00;0
LOCATION:
ORGANIZER:
SEQUENCE:1
SUMMARY:Palvus Taizé lauludega.
TRANSP:OPAQUE
URL:https://tallinnajaani.ee/avaleht/kalender/2203-palvus-taiz%C3%A9-laulud
 ega-47.html
END:VEVENT
END:VCALENDAR
