BEGIN:VCALENDAR
VERSION:2.0
PRODID:-//EELK Tallinna Jaani kogudus//NONSGML kigkonsult.se iCalcreator 2.41.92//
CALSCALE:GREGORIAN
METHOD:PUBLISH
UID:33656135-3634-4265-b235-663032303065
X-WR-CALNAME:iCagenda
X-WR-CALDESC:Event Management Extension for Joomla!
X-WR-RELCALID:3E26604A-50F4-4449-8B3E-E4F4932D05B5
X-WR-TIMEZONE:Europe/Tallinn
BEGIN:VTIMEZONE
TZID:Europe/Tallinn
TZUNTIL:20231029T010000Z
BEGIN:STANDARD
TZNAME:EET
DTSTART:20211031T040000
TZOFFSETFROM:+0300
TZOFFSETTO:+0200
RDATE:20221030T040000
END:STANDARD
BEGIN:DAYLIGHT
TZNAME:EEST
DTSTART:20210328T030000
TZOFFSETFROM:+0200
TZOFFSETTO:+0300
RDATE:20220327T030000
RDATE:20230326T030000
END:DAYLIGHT
END:VTIMEZONE
BEGIN:VEVENT
UID:30656339-6366-4338-b762-656337393536
DTSTAMP:20260421T195307Z
CATEGORIES:Kirikukontsert
CLASS:PUBLIC
DESCRIPTION:
DTSTART:20211027T103000Z
DTEND:20211027T103000Z
GEO:00;0
LOCATION:
ORGANIZER:
SEQUENCE:1
SUMMARY:Hardushetk (kontsertmõtisklus).
TRANSP:OPAQUE
URL:https://tallinnajaani.ee/avaleht/kalender/2177-2020-05-06-10-21-88/2021
 -10-27-13-30.html
END:VEVENT
END:VCALENDAR
