BEGIN:VCALENDAR
VERSION:2.0
PRODID:-//EELK Tallinna Jaani kogudus//NONSGML kigkonsult.se iCalcreator 2.41.92//
CALSCALE:GREGORIAN
METHOD:PUBLISH
UID:31313561-3436-4539-b763-643234623465
X-WR-CALNAME:iCagenda
X-WR-CALDESC:Event Management Extension for Joomla!
X-WR-RELCALID:3E26604A-50F4-4449-8B3E-E4F4932D05B5
X-WR-TIMEZONE:Europe/Tallinn
BEGIN:VTIMEZONE
TZID:Europe/Tallinn
TZUNTIL:20230326T010000Z
BEGIN:STANDARD
TZNAME:EET
DTSTART:20201025T040000
TZOFFSETFROM:+0300
TZOFFSETTO:+0200
RDATE:20211031T040000
RDATE:20221030T040000
END:STANDARD
BEGIN:DAYLIGHT
TZNAME:EEST
DTSTART:20210328T030000
TZOFFSETFROM:+0200
TZOFFSETTO:+0300
RDATE:20220327T030000
END:DAYLIGHT
END:VTIMEZONE
BEGIN:VEVENT
UID:33336665-3837-4138-a438-636635373937
DTSTAMP:20260425T102302Z
CATEGORIES:Tooma missa/palvus
CLASS:PUBLIC
DESCRIPTION:
DTSTART:20210816T150000Z
DTEND:20210816T150000Z
GEO:00;0
LOCATION:
ORGANIZER:
SEQUENCE:1
SUMMARY:Tooma palvus Taizé lauludega.
TRANSP:OPAQUE
URL:https://tallinnajaani.ee/avaleht/kalender/2116-palvus-taiz%C3%A9-laulud
 ega-34/2021-08-16-18-00.html?layout=vcal
END:VEVENT
END:VCALENDAR
