BEGIN:VCALENDAR
VERSION:2.0
PRODID:-//EELK Tallinna Jaani kogudus//NONSGML kigkonsult.se iCalcreator 2.41.92//
CALSCALE:GREGORIAN
METHOD:PUBLISH
UID:63343138-3765-4462-a666-643033623035
X-WR-CALNAME:iCagenda
X-WR-CALDESC:Event Management Extension for Joomla!
X-WR-RELCALID:3E26604A-50F4-4449-8B3E-E4F4932D05B5
X-WR-TIMEZONE:Europe/Tallinn
BEGIN:VTIMEZONE
TZID:Europe/Tallinn
TZUNTIL:20221030T010000Z
BEGIN:STANDARD
TZNAME:EET
DTSTART:20201025T040000
TZOFFSETFROM:+0300
TZOFFSETTO:+0200
RDATE:20211031T040000
END:STANDARD
BEGIN:DAYLIGHT
TZNAME:EEST
DTSTART:20210328T030000
TZOFFSETFROM:+0200
TZOFFSETTO:+0300
RDATE:20220327T030000
END:DAYLIGHT
END:VTIMEZONE
BEGIN:VEVENT
UID:66343234-3264-4730-b964-653061656131
DTSTAMP:20260420T114744Z
CATEGORIES:Muud sündmused
CLASS:PUBLIC
DESCRIPTION;ALTREP="CID:<FFFF__=0ABBE548DFE235B58f9e8a93d@coffeebean.com>":
 Tema on ka kohal.(Kirik avatud 30 minutit)
DTSTART:20210330T150000Z
DTEND:20210330T150000Z
GEO:00;0
LOCATION:
ORGANIZER:
SEQUENCE:1
SUMMARY:Kirik avatud palvetajatele.
TRANSP:OPAQUE
URL:https://tallinnajaani.ee/avaleht/kalender/2012-palvus-taiz%C3%A9-laulud
 ega-23/2021-03-30-18-00.html
END:VEVENT
END:VCALENDAR
